BEGIN:VCALENDAR
VERSION:2.0
PRODID:-//PP SAVANI CBSE - ECPv6.2.9//NONSGML v1.0//EN
CALSCALE:GREGORIAN
METHOD:PUBLISH
X-WR-CALNAME:PP SAVANI CBSE
X-ORIGINAL-URL:https://ppsavanicbse.org
X-WR-CALDESC:Events for PP SAVANI CBSE
REFRESH-INTERVAL;VALUE=DURATION:PT1H
X-Robots-Tag:noindex
X-PUBLISHED-TTL:PT1H
BEGIN:VTIMEZONE
TZID:Asia/Kolkata
BEGIN:STANDARD
TZOFFSETFROM:+0530
TZOFFSETTO:+0530
TZNAME:IST
DTSTART:20260101T000000
END:STANDARD
END:VTIMEZONE
BEGIN:VEVENT
DTSTART;VALUE=DATE:20260423
DTEND;VALUE=DATE:20260424
DTSTAMP:20260423T012650
CREATED:20260402T102200Z
LAST-MODIFIED:20260402T102200Z
UID:12165-1776902400-1776988799@ppsavanicbse.org
SUMMARY:English Handwriting Competition (Std. 6 to 8)
DESCRIPTION:DATE \n\nDAY\nEVENT’S NAME\nSTD\nPLACE/ VENUE\n\n\n23/04/2026\nTHURSDAY\nENGLISH HANDWRITING COMP.\nVI TO VIII\n\nCLASSROOM
URL:https://ppsavanicbse.org/event/english-handwriting-competition-std-6-to-8-2/
LOCATION:Classroom\, Mota Varachha-Abrama Road\, Abrama\, Kamrej\, Surat.\, Surat\, Gujarat\, 394150\, India
CATEGORIES:Competition
ORGANIZER;CN="CBSE Department":MAILTO:info@ppsavanicbse.org
END:VEVENT
BEGIN:VEVENT
DTSTART;VALUE=DATE:20260423
DTEND;VALUE=DATE:20260424
DTSTAMP:20260423T012650
CREATED:20260402T102908Z
LAST-MODIFIED:20260402T102908Z
UID:12178-1776902400-1776988799@ppsavanicbse.org
SUMMARY:English Day Celebration (Std. 9 to 12)
DESCRIPTION:DATE \n\nDAY\nEVENT’S NAME\nSTD\nPLACE/ VENUE\n\n\n23/04/2026\nTHURSDAY\nENGLISH DAY CELEBRATION\nIX TO XII\n\nSMALL AUDITORIUM
URL:https://ppsavanicbse.org/event/english-day-celebration-std-9-to-12/
LOCATION:Small Auditorium\, Mota Varachha-Abrama Road\, Abrama\, Kamrej\, Surat.\, Surat\, Gujarat\, 394150\, India
CATEGORIES:Academic
ORGANIZER;CN="CBSE Department":MAILTO:info@ppsavanicbse.org
END:VEVENT
BEGIN:VEVENT
DTSTART;VALUE=DATE:20260423
DTEND;VALUE=DATE:20260424
DTSTAMP:20260423T012650
CREATED:20260404T100610Z
LAST-MODIFIED:20260404T100610Z
UID:12185-1776902400-1776988799@ppsavanicbse.org
SUMMARY:PTM (Nursery to Sr. Kg.)
DESCRIPTION:DATE \n\nDAY\nEVENT’S NAME\nSTD\nPLACE/ VENUE\n\n\n23/04/2026\nTHURSDAY\nPTM\nNURSERY TO SR. KG.\n\nCLASSROOM
URL:https://ppsavanicbse.org/event/ptm-nursery-to-sr-kg-7/
LOCATION:Classroom\, Mota Varachha-Abrama Road\, Abrama\, Kamrej\, Surat.\, Surat\, Gujarat\, 394150\, India
CATEGORIES:PTM
ORGANIZER;CN="CBSE Department":MAILTO:info@ppsavanicbse.org
END:VEVENT
END:VCALENDAR