BEGIN:VCALENDAR
VERSION:2.0
PRODID:-//PP SAVANI CBSE - ECPv6.2.9//NONSGML v1.0//EN
CALSCALE:GREGORIAN
METHOD:PUBLISH
X-WR-CALNAME:PP SAVANI CBSE
X-ORIGINAL-URL:https://ppsavanicbse.org
X-WR-CALDESC:Events for PP SAVANI CBSE
REFRESH-INTERVAL;VALUE=DURATION:PT1H
X-Robots-Tag:noindex
X-PUBLISHED-TTL:PT1H
BEGIN:VTIMEZONE
TZID:Asia/Kolkata
BEGIN:STANDARD
TZOFFSETFROM:+0530
TZOFFSETTO:+0530
TZNAME:IST
DTSTART:20250101T000000
END:STANDARD
END:VTIMEZONE
BEGIN:VEVENT
DTSTART;VALUE=DATE:20251206
DTEND;VALUE=DATE:20251207
DTSTAMP:20260420T193924
CREATED:20251216T072153Z
LAST-MODIFIED:20251216T083001Z
UID:11667-1764979200-1765065599@ppsavanicbse.org
SUMMARY:Bulletin Board Decoration (Std. 6 to 9 & 11)
DESCRIPTION:DATE \n\nDAY\nEVENT’S NAME\nSTD\nPLACE/ VENUE\n\n\n06-12-2025\nSATURDAY\nBULLETIN BOARD DECORATION\nVI TO IX & XI\n\nOUTSIDE CLASSROOM
URL:https://ppsavanicbse.org/event/bulletin-board-decoration-christmas-std-6/
LOCATION:OTS\, Mota Varachha\, Abrama\, Kamrej\, Surat\, Surat\, Gujarat\, 394150\, India
CATEGORIES:Academic
ORGANIZER;CN="CBSE Department":MAILTO:info@ppsavanicbse.org
END:VEVENT
BEGIN:VEVENT
DTSTART;VALUE=DATE:20251208
DTEND;VALUE=DATE:20251209
DTSTAMP:20260420T193924
CREATED:20251128T105438Z
LAST-MODIFIED:20251128T105438Z
UID:11623-1765152000-1765238399@ppsavanicbse.org
SUMMARY:Bag Less Day (Std. 1 & 2)
DESCRIPTION:DATE \n\nDAY\nEVENT’S NAME\nSTD\nPLACE/ VENUE\n\n\n08-12-2025\nMONDAY\nBAG LESS DAY\nSTD. 1 & 2\n\nCLASSROOM
URL:https://ppsavanicbse.org/event/bag-less-day-std-1-2/
LOCATION:Classroom\, Mota Varachha-Abrama Road\, Abrama\, Kamrej\, Surat.\, Surat\, Gujarat\, 394150\, India
CATEGORIES:Academic
ORGANIZER;CN="CBSE Department":MAILTO:info@ppsavanicbse.org
END:VEVENT
BEGIN:VEVENT
DTSTART;VALUE=DATE:20251224
DTEND;VALUE=DATE:20251225
DTSTAMP:20260420T193924
CREATED:20251216T071630Z
LAST-MODIFIED:20251216T071630Z
UID:11660-1766534400-1766620799@ppsavanicbse.org
SUMMARY:Assembly\, Board Decoration & Competition (Std. 3 to 5)
DESCRIPTION:DATE \n\nDAY\nEVENT’S NAME\nSTD\nPLACE/ VENUE\n\n\n\n24-12-2025 \n\n\n\nWEDNESDAY \n \n\nASSEMBLY- CHRISTMAS AND NEW YEAR \n\nIII TO V\nBIG AUDI\n\n\n\nBOARD DECORATION-CHRISTMASS \n\n\nIII \n\nCLASSROOM\n\n\n\nBOARD DECORATION-WINTER DAY \n\n\nIV \n\n\n\n\nBOARD DECORATION-AURORA LIGHT \n\n\nV \n\n\n\nCOMPETITION – DANCE COMPETITION\nIII\n\nBIG AUDI \n\n\n\nCOMPETITION – SHLOK RECITATION\nIV TO V\n\n SMALL AUDI
URL:https://ppsavanicbse.org/event/assembly-board-decoration-competition-std-3-to-5/
LOCATION:Big Auditorium\, Mota Varachha-Abrama Road\, Abrama\, Kamrej\, Surat.\, Surat\, Gujarat\, 394150\, India
CATEGORIES:Academic
ORGANIZER;CN="CBSE Department":MAILTO:info@ppsavanicbse.org
END:VEVENT
END:VCALENDAR