BEGIN:VCALENDAR
VERSION:2.0
PRODID:-//PP SAVANI CBSE - ECPv6.2.9//NONSGML v1.0//EN
CALSCALE:GREGORIAN
METHOD:PUBLISH
X-WR-CALNAME:PP SAVANI CBSE
X-ORIGINAL-URL:https://ppsavanicbse.org
X-WR-CALDESC:Events for PP SAVANI CBSE
REFRESH-INTERVAL;VALUE=DURATION:PT1H
X-Robots-Tag:noindex
X-PUBLISHED-TTL:PT1H
BEGIN:VTIMEZONE
TZID:Asia/Kolkata
BEGIN:STANDARD
TZOFFSETFROM:+0530
TZOFFSETTO:+0530
TZNAME:IST
DTSTART:20260101T000000
END:STANDARD
END:VTIMEZONE
BEGIN:VEVENT
DTSTART;VALUE=DATE:20260207
DTEND;VALUE=DATE:20260208
DTSTAMP:20260420T163012
CREATED:20260122T064311Z
LAST-MODIFIED:20260122T064311Z
UID:11905-1770422400-1770508799@ppsavanicbse.org
SUMMARY:Bulletin Board Decoration (Std. 9 & 11)
DESCRIPTION:DATE \n\nDAY\nEVENT’S NAME\nSTD\nPLACE/ VENUE\n\n\n07-02-2026\nSATURDAY\nBULLETIN BOARD DECORATION\nSTD. 9 & 11\n\nOUTSIDE CLASSROOM
URL:https://ppsavanicbse.org/event/bulletin-board-decoration-std-9-11-3/
LOCATION:OTS\, Mota Varachha\, Abrama\, Kamrej\, Surat\, Surat\, Gujarat\, 394150\, India
CATEGORIES:Academic
ORGANIZER;CN="CBSE Department":MAILTO:info@ppsavanicbse.org
END:VEVENT
BEGIN:VEVENT
DTSTART;VALUE=DATE:20260207
DTEND;VALUE=DATE:20260208
DTSTAMP:20260420T163012
CREATED:20260129T103945Z
LAST-MODIFIED:20260129T105142Z
UID:11923-1770422400-1770508799@ppsavanicbse.org
SUMMARY:Bulletin Board Decoration (Std. 6 to 8)
DESCRIPTION:DATE \n\nDAY\nEVENT NAME\nCLASS\nPLACE/ VENUE\n\n\n07-02-2026\nSATURDAY\nBULLETIN BOARD DECORATION – FRIENDSHIP\nVI\n\nOUTSIDE CLASSROOM
URL:https://ppsavanicbse.org/event/bulletin-board-decoration-std-6/
LOCATION:Classroom\, Mota Varachha-Abrama Road\, Abrama\, Kamrej\, Surat.\, Surat\, Gujarat\, 394150\, India
CATEGORIES:Academic
ORGANIZER;CN="CBSE Department":MAILTO:info@ppsavanicbse.org
END:VEVENT
BEGIN:VEVENT
DTSTART;VALUE=DATE:20260212
DTEND;VALUE=DATE:20260213
DTSTAMP:20260420T163012
CREATED:20260130T065941Z
LAST-MODIFIED:20260130T065941Z
UID:11954-1770854400-1770940799@ppsavanicbse.org
SUMMARY:Prize Distribution (Nursery To Sr. Kg.)
DESCRIPTION:DATE \n\nDAY\nEVENT’S NAME\nSTD\nPLACE/ VENUE\n\n\n12-02-2026\nTHURSDAY\nPRIZE DISTRIBUTION\nNUR. TO SR. KG.\n\nSMALL AUDITORIUM
URL:https://ppsavanicbse.org/event/prize-distribution-nursery-to-sr-kg-4/
LOCATION:Small Auditorium\, Mota Varachha-Abrama Road\, Abrama\, Kamrej\, Surat.\, Surat\, Gujarat\, 394150\, India
CATEGORIES:Academic
ORGANIZER;CN="CBSE Department":MAILTO:info@ppsavanicbse.org
END:VEVENT
BEGIN:VEVENT
DTSTART;VALUE=DATE:20260213
DTEND;VALUE=DATE:20260214
DTSTAMP:20260420T163012
CREATED:20260130T070027Z
LAST-MODIFIED:20260130T070027Z
UID:11956-1770940800-1771027199@ppsavanicbse.org
SUMMARY:Prize Distribution (Std. 1 & 2)
DESCRIPTION:DATE \n\nDAY\nEVENT’S NAME\nSTD\nPLACE/ VENUE\n\n\n13-02-2026\nFRIDAY\nPRIZE DISTRIBUTION\nCLASS I & II\n\nSMALL AUDITORIUM
URL:https://ppsavanicbse.org/event/prize-distribution-std-1-2-2/
LOCATION:Small Auditorium\, Mota Varachha-Abrama Road\, Abrama\, Kamrej\, Surat.\, Surat\, Gujarat\, 394150\, India
CATEGORIES:Academic
ORGANIZER;CN="CBSE Department":MAILTO:info@ppsavanicbse.org
END:VEVENT
BEGIN:VEVENT
DTSTART;VALUE=DATE:20260214
DTEND;VALUE=DATE:20260215
DTSTAMP:20260420T163012
CREATED:20260130T042527Z
LAST-MODIFIED:20260130T042527Z
UID:11937-1771027200-1771113599@ppsavanicbse.org
SUMMARY:Board Decoration (Std. 3 to 5)
DESCRIPTION:DATE \n\nDAY\nEVENT’S NAME\nSTD\nPLACE/ VENUE\n\n\n14-02-2026\nSATURDAY\nBOARD DECORATION – MAHA SHIVRATRI\nIII TO V\n\nOUTSIDE CLASSROOM
URL:https://ppsavanicbse.org/event/board-decoration-std-3-to-5-5/
LOCATION:Classroom\, Mota Varachha-Abrama Road\, Abrama\, Kamrej\, Surat.\, Surat\, Gujarat\, 394150\, India
CATEGORIES:Academic
ORGANIZER;CN="CBSE Department":MAILTO:info@ppsavanicbse.org
END:VEVENT
BEGIN:VEVENT
DTSTART;VALUE=DATE:20260214
DTEND;VALUE=DATE:20260215
DTSTAMP:20260420T163012
CREATED:20260130T042748Z
LAST-MODIFIED:20260130T042748Z
UID:11941-1771027200-1771113599@ppsavanicbse.org
SUMMARY:Prize Distribution (Std. 3 to 5)
DESCRIPTION:DATE \n\nDAY\nEVENT’S NAME\nSTD\nPLACE/ VENUE\n\n\n14-02-2026\nSATURDAY\nCELEBRATION- PRIZE DISTRIBUTION\nIII TO V\n\nBIG AUDITORIUM
URL:https://ppsavanicbse.org/event/prize-distribution-std-3-to-5-4/
LOCATION:Big Auditorium\, Mota Varachha-Abrama Road\, Abrama\, Kamrej\, Surat.\, Surat\, Gujarat\, 394150\, India
CATEGORIES:Academic
ORGANIZER;CN="CBSE Department":MAILTO:info@ppsavanicbse.org
END:VEVENT
BEGIN:VEVENT
DTSTART;VALUE=DATE:20260227
DTEND;VALUE=DATE:20260301
DTSTAMP:20260420T163012
CREATED:20260130T070349Z
LAST-MODIFIED:20260130T070603Z
UID:11958-1772150400-1772323199@ppsavanicbse.org
SUMMARY:Graduation Day (Sr. Kg.)
DESCRIPTION:DATE \n\nDAY\nEVENT’S NAME\nSTD\nPLACE/ VENUE\n\n\n27-02-2026 & 28-02-2026\nFRIDAY & SATURDAY\nGRADUATION DAY\nSR. KG.\n\nSMALL AUDITORIUM
URL:https://ppsavanicbse.org/event/graduation-day-sr-kg/
LOCATION:Small Auditorium\, Mota Varachha-Abrama Road\, Abrama\, Kamrej\, Surat.\, Surat\, Gujarat\, 394150\, India
CATEGORIES:Academic
ORGANIZER;CN="CBSE Department":MAILTO:info@ppsavanicbse.org
END:VEVENT
END:VCALENDAR