BEGIN:VCALENDAR
VERSION:2.0
PRODID:-//PP SAVANI CBSE - ECPv6.2.9//NONSGML v1.0//EN
CALSCALE:GREGORIAN
METHOD:PUBLISH
X-ORIGINAL-URL:https://ppsavanicbse.org
X-WR-CALDESC:Events for PP SAVANI CBSE
REFRESH-INTERVAL;VALUE=DURATION:PT1H
X-Robots-Tag:noindex
X-PUBLISHED-TTL:PT1H
BEGIN:VTIMEZONE
TZID:Asia/Kolkata
BEGIN:STANDARD
TZOFFSETFROM:+0530
TZOFFSETTO:+0530
TZNAME:IST
DTSTART:20250101T000000
END:STANDARD
END:VTIMEZONE
BEGIN:VEVENT
DTSTART;VALUE=DATE:20250614
DTEND;VALUE=DATE:20250615
DTSTAMP:20260422T222023
CREATED:20250511T094734Z
LAST-MODIFIED:20250511T094734Z
UID:10803-1749859200-1749945599@ppsavanicbse.org
SUMMARY:Board Decoration - Welcome Back To School (Std. 4)
DESCRIPTION:DATE \n\nDAY\nEVENT’S NAME\nSTD\nPLACE/ VENUE\n\n\n14-06-2025\nSATURDAY\nBOARD DECORATION  WELCOME BACK TO SCHOOL\nSTD. 4\n\nOUTSIDE CLASSROOM
URL:https://ppsavanicbse.org/event/board-decoration-welcome-back-to-school-std-4/
LOCATION:Classroom\, Mota Varachha-Abrama Road\, Abrama\, Kamrej\, Surat.\, Surat\, Gujarat\, 394150\, India
CATEGORIES:Academic
ORGANIZER;CN="CBSE Department":MAILTO:info@ppsavanicbse.org
END:VEVENT
BEGIN:VEVENT
DTSTART;VALUE=DATE:20250614
DTEND;VALUE=DATE:20250615
DTSTAMP:20260422T222023
CREATED:20250511T095006Z
LAST-MODIFIED:20250511T095006Z
UID:10807-1749859200-1749945599@ppsavanicbse.org
SUMMARY:Board Decoration - Environmental Day (Std. 5)
DESCRIPTION:DATE \n\nDAY\nEVENT’S NAME\nSTD\nPLACE/ VENUE\n\n\n14-06-2025\nSATURDAY\nBOARD DECORATION ENVIRONMENTAL DAY\nSTD. 5\n\nOUTSIDE CLASSROOM
URL:https://ppsavanicbse.org/event/board-decoration-environmental-day-std-5/
LOCATION:Classroom\, Mota Varachha-Abrama Road\, Abrama\, Kamrej\, Surat.\, Surat\, Gujarat\, 394150\, India
CATEGORIES:Academic
ORGANIZER;CN="CBSE Department":MAILTO:info@ppsavanicbse.org
END:VEVENT
BEGIN:VEVENT
DTSTART;VALUE=DATE:20250614
DTEND;VALUE=DATE:20250615
DTSTAMP:20260422T222023
CREATED:20250511T095821Z
LAST-MODIFIED:20250511T100249Z
UID:10816-1749859200-1749945599@ppsavanicbse.org
SUMMARY:Investiture Ceremony (Std. 6 to 12)
DESCRIPTION:DATE \n\nDAY\nEVENT’S NAME\nSTD\nPLACE/ VENUE\n\n\n14-06-2025\nSATURDAY\nINVESTITURE CEREMONY\n6 TO 12\n\nBIG AUDI
URL:https://ppsavanicbse.org/event/investiture-ceremony-std-6-to-8-2/
LOCATION:Big Auditorium\, Mota Varachha-Abrama Road\, Abrama\, Kamrej\, Surat.\, Surat\, Gujarat\, 394150\, India
CATEGORIES:Academic
ORGANIZER;CN="CBSE Department":MAILTO:info@ppsavanicbse.org
END:VEVENT
END:VCALENDAR