BEGIN:VCALENDAR
VERSION:2.0
PRODID:-//PP SAVANI CBSE - ECPv6.2.9//NONSGML v1.0//EN
CALSCALE:GREGORIAN
METHOD:PUBLISH
X-ORIGINAL-URL:https://ppsavanicbse.org
X-WR-CALDESC:Events for PP SAVANI CBSE
REFRESH-INTERVAL;VALUE=DURATION:PT1H
X-Robots-Tag:noindex
X-PUBLISHED-TTL:PT1H
BEGIN:VTIMEZONE
TZID:Asia/Kolkata
BEGIN:STANDARD
TZOFFSETFROM:+0530
TZOFFSETTO:+0530
TZNAME:IST
DTSTART:20250101T000000
END:STANDARD
END:VTIMEZONE
BEGIN:VEVENT
DTSTART;VALUE=DATE:20250805
DTEND;VALUE=DATE:20250807
DTSTAMP:20260422T190244
CREATED:20250723T051614Z
LAST-MODIFIED:20250723T053738Z
UID:11073-1754352000-1754524799@ppsavanicbse.org
SUMMARY:Mock Parliament (Std. 6 to 12)
DESCRIPTION:DATE \n\nDAY\nEVENT’S NAME\nSTD\nPLACE/ VENUE\n\n\n05-08-2025 & 06-08-2025\nTUESDAY & WEDNESDAY\nMOCK PARLIAMENT\nVI TO XII\n\nSMALL AUDI
URL:https://ppsavanicbse.org/event/mock-parliament-std-6-to-8/
LOCATION:Small Auditorium\, Mota Varachha-Abrama Road\, Abrama\, Kamrej\, Surat.\, Surat\, Gujarat\, 394150\, India
CATEGORIES:Academic
ORGANIZER;CN="CBSE Department":MAILTO:info@ppsavanicbse.org
END:VEVENT
BEGIN:VEVENT
DTSTART;VALUE=DATE:20250806
DTEND;VALUE=DATE:20250807
DTSTAMP:20260422T190244
CREATED:20250723T051937Z
LAST-MODIFIED:20250723T052102Z
UID:11075-1754438400-1754524799@ppsavanicbse.org
SUMMARY:Bulletin Board Decoration - Rakshabandhan (Std. 6 to 8)
DESCRIPTION:DATE \n\nDAY\nEVENT’S NAME\nSTD\nPLACE/ VENUE\n\n\n06-08-2025\nWEDNESDAY\nBULLETIN BOARD DECORATION – RAKSHABANDHAN\nVI TO VIII\n\nOUTSIDE CLASSROOM
URL:https://ppsavanicbse.org/event/bulletin-board-decoration-rakshabandhan-std-6/
LOCATION:Classroom\, Mota Varachha-Abrama Road\, Abrama\, Kamrej\, Surat.\, Surat\, Gujarat\, 394150\, India
CATEGORIES:Academic
ORGANIZER;CN="CBSE Department":MAILTO:info@ppsavanicbse.org
END:VEVENT
BEGIN:VEVENT
DTSTART;VALUE=DATE:20250806
DTEND;VALUE=DATE:20250807
DTSTAMP:20260422T190244
CREATED:20250723T053938Z
LAST-MODIFIED:20250723T053938Z
UID:11095-1754438400-1754524799@ppsavanicbse.org
SUMMARY:Bulletin Board Decoration (Std. 9 to 12)
DESCRIPTION:DATE \n\nDAY\nEVENT’S NAME\nSTD\n\nPLACE/ VENUE \n\n\n\n\n06-08-2025 \n\nWEDNESDAY\nBULLETIN BOARD DECORATION – CAREER OPPORTUNITIES\nIX\nOUTSIDE CLASSROOM\n\n\n\n06-08-2025 \n\n\nWEDNESDAY \n\n\nBULLETIN BOARD DECORATION – STEPS OF SUCCESS \n\n\nX \n\n\nOUTSIDE CLASSROOM \n\n\n\n\n06-08-2025 \n\n\nWEDNESDAY \n\n\nBULLETIN BOARD DECORATION – WISE HELPERS \n\n\nXI \n\n\nOUTSIDE CLASSROOM \n\n\n\n06-08-2025\nWEDNESDAY\nBULLETIN BOARD DECORATION – GROW YOUR MIND\nXII\n\nOUTSIDE CLASSROOM
URL:https://ppsavanicbse.org/event/bulletin-board-decoration-std-9-to-12-2/
LOCATION:Classroom\, Mota Varachha-Abrama Road\, Abrama\, Kamrej\, Surat.\, Surat\, Gujarat\, 394150\, India
CATEGORIES:Academic
ORGANIZER;CN="CBSE Department":MAILTO:info@ppsavanicbse.org
END:VEVENT
END:VCALENDAR