BEGIN:VCALENDAR
VERSION:2.0
PRODID:-//PP SAVANI CBSE - ECPv6.2.9//NONSGML v1.0//EN
CALSCALE:GREGORIAN
METHOD:PUBLISH
X-ORIGINAL-URL:https://ppsavanicbse.org
X-WR-CALDESC:Events for PP SAVANI CBSE
REFRESH-INTERVAL;VALUE=DURATION:PT1H
X-Robots-Tag:noindex
X-PUBLISHED-TTL:PT1H
BEGIN:VTIMEZONE
TZID:Asia/Kolkata
BEGIN:STANDARD
TZOFFSETFROM:+0530
TZOFFSETTO:+0530
TZNAME:IST
DTSTART:20260101T000000
END:STANDARD
END:VTIMEZONE
BEGIN:VEVENT
DTSTART;VALUE=DATE:20260214
DTEND;VALUE=DATE:20260215
DTSTAMP:20260420T180811
CREATED:20260130T042527Z
LAST-MODIFIED:20260130T042527Z
UID:11937-1771027200-1771113599@ppsavanicbse.org
SUMMARY:Board Decoration (Std. 3 to 5)
DESCRIPTION:DATE \n\nDAY\nEVENT’S NAME\nSTD\nPLACE/ VENUE\n\n\n14-02-2026\nSATURDAY\nBOARD DECORATION – MAHA SHIVRATRI\nIII TO V\n\nOUTSIDE CLASSROOM
URL:https://ppsavanicbse.org/event/board-decoration-std-3-to-5-5/
LOCATION:Classroom\, Mota Varachha-Abrama Road\, Abrama\, Kamrej\, Surat.\, Surat\, Gujarat\, 394150\, India
CATEGORIES:Academic
ORGANIZER;CN="CBSE Department":MAILTO:info@ppsavanicbse.org
END:VEVENT
BEGIN:VEVENT
DTSTART;VALUE=DATE:20260214
DTEND;VALUE=DATE:20260215
DTSTAMP:20260420T180811
CREATED:20260130T042748Z
LAST-MODIFIED:20260130T042748Z
UID:11941-1771027200-1771113599@ppsavanicbse.org
SUMMARY:Prize Distribution (Std. 3 to 5)
DESCRIPTION:DATE \n\nDAY\nEVENT’S NAME\nSTD\nPLACE/ VENUE\n\n\n14-02-2026\nSATURDAY\nCELEBRATION- PRIZE DISTRIBUTION\nIII TO V\n\nBIG AUDITORIUM
URL:https://ppsavanicbse.org/event/prize-distribution-std-3-to-5-4/
LOCATION:Big Auditorium\, Mota Varachha-Abrama Road\, Abrama\, Kamrej\, Surat.\, Surat\, Gujarat\, 394150\, India
CATEGORIES:Academic
ORGANIZER;CN="CBSE Department":MAILTO:info@ppsavanicbse.org
END:VEVENT
END:VCALENDAR