BEGIN:VCALENDAR
VERSION:2.0
PRODID:-//PP SAVANI CBSE - ECPv6.2.9//NONSGML v1.0//EN
CALSCALE:GREGORIAN
METHOD:PUBLISH
X-ORIGINAL-URL:https://ppsavanicbse.org
X-WR-CALDESC:Events for PP SAVANI CBSE
REFRESH-INTERVAL;VALUE=DURATION:PT1H
X-Robots-Tag:noindex
X-PUBLISHED-TTL:PT1H
BEGIN:VTIMEZONE
TZID:Asia/Kolkata
BEGIN:STANDARD
TZOFFSETFROM:+0530
TZOFFSETTO:+0530
TZNAME:IST
DTSTART:20260101T000000
END:STANDARD
END:VTIMEZONE
BEGIN:VEVENT
DTSTART;VALUE=DATE:20260406
DTEND;VALUE=DATE:20260407
DTSTAMP:20260421T035025
CREATED:20260225T104337Z
LAST-MODIFIED:20260225T104337Z
UID:12081-1775433600-1775519999@ppsavanicbse.org
SUMMARY:School Re-Opening (Nursery to Std. 12)
DESCRIPTION:DATE \n\nDAY\nEVENT NAME\nCLASS\nPLACE/ VENUE\n\n\n06-04-2026\nMONDAY\nSCHOOL RE-OPENING\nNURSERY TO STD. 12\n\nCLASS ROOM
URL:https://ppsavanicbse.org/event/school-re-opening-nursery-to-std-12/
LOCATION:Classroom\, Mota Varachha-Abrama Road\, Abrama\, Kamrej\, Surat.\, Surat\, Gujarat\, 394150\, India
CATEGORIES:Academic
ORGANIZER;CN="CBSE Department":MAILTO:info@ppsavanicbse.org
END:VEVENT
BEGIN:VEVENT
DTSTART;VALUE=DATE:20260411
DTEND;VALUE=DATE:20260412
DTSTAMP:20260421T035025
CREATED:20260402T100110Z
LAST-MODIFIED:20260402T102535Z
UID:12144-1775865600-1775951999@ppsavanicbse.org
SUMMARY:Bagless Day / Special Assembly / Dream Big (Welcome Back) (Std. 3 to 12)
DESCRIPTION:DATE \n\nDAY\nEVENT’S NAME\nSTD\nPLACE/ VENUE\n\n\n11/04/2026\nSATURDAY\nBAGLESS DAY/ SPL. ASSEMBLY \nDREAM BIG ( WELCOME BACK)\nIII TO XII\n\nBIG AUDITORIUM
URL:https://ppsavanicbse.org/event/bagless-day-special-assembly-dream-big-welcome-back-std-3-to-5/
LOCATION:Big Auditorium\, Mota Varachha-Abrama Road\, Abrama\, Kamrej\, Surat.\, Surat\, Gujarat\, 394150\, India
CATEGORIES:Academic
ORGANIZER;CN="CBSE Department":MAILTO:info@ppsavanicbse.org
END:VEVENT
BEGIN:VEVENT
DTSTART;VALUE=DATE:20260422
DTEND;VALUE=DATE:20260423
DTSTAMP:20260421T035025
CREATED:20260402T102820Z
LAST-MODIFIED:20260402T102820Z
UID:12176-1776816000-1776902399@ppsavanicbse.org
SUMMARY:House Meeting (Std. 9 to 12)
DESCRIPTION:DATE \n\nDAY\nEVENT’S NAME\nSTD\nPLACE/ VENUE\n\n\n22/04/2026\nWEDNESDAY\nHOUSE MEETING\nIX TO XII\n\nCRICKET GROUND
URL:https://ppsavanicbse.org/event/house-meeting-std-9-to-12/
LOCATION:Cricket Ground\, Mota Varachha\, Abrama\, Kamrej\, Surat\, Surat\, Gujarat\, 394150\, India
CATEGORIES:Academic
ORGANIZER;CN="CBSE Department":MAILTO:info@ppsavanicbse.org
END:VEVENT
BEGIN:VEVENT
DTSTART;VALUE=DATE:20260423
DTEND;VALUE=DATE:20260424
DTSTAMP:20260421T035025
CREATED:20260402T102908Z
LAST-MODIFIED:20260402T102908Z
UID:12178-1776902400-1776988799@ppsavanicbse.org
SUMMARY:English Day Celebration (Std. 9 to 12)
DESCRIPTION:DATE \n\nDAY\nEVENT’S NAME\nSTD\nPLACE/ VENUE\n\n\n23/04/2026\nTHURSDAY\nENGLISH DAY CELEBRATION\nIX TO XII\n\nSMALL AUDITORIUM
URL:https://ppsavanicbse.org/event/english-day-celebration-std-9-to-12/
LOCATION:Small Auditorium\, Mota Varachha-Abrama Road\, Abrama\, Kamrej\, Surat.\, Surat\, Gujarat\, 394150\, India
CATEGORIES:Academic
ORGANIZER;CN="CBSE Department":MAILTO:info@ppsavanicbse.org
END:VEVENT
BEGIN:VEVENT
DTSTART;VALUE=DATE:20260501
DTEND;VALUE=DATE:20260502
DTSTAMP:20260421T035025
CREATED:20260402T100817Z
LAST-MODIFIED:20260402T101306Z
UID:12154-1777593600-1777679999@ppsavanicbse.org
SUMMARY:Summer Splash (Std. 3 to 5)
DESCRIPTION:DATE \n\nDAY\nEVENT’S NAME\nSTD\nPLACE/ VENUE\n\n\n01/05/2026\nFRIDAY\nSUMMER SPLASH\nIII TO V\n\nBIG AUDITORIUM
URL:https://ppsavanicbse.org/event/summer-splash-std-3-to-5/
LOCATION:Big Auditorium\, Mota Varachha-Abrama Road\, Abrama\, Kamrej\, Surat.\, Surat\, Gujarat\, 394150\, India
CATEGORIES:Academic
ORGANIZER;CN="CBSE Department":MAILTO:info@ppsavanicbse.org
END:VEVENT
BEGIN:VEVENT
DTSTART;VALUE=DATE:20260501
DTEND;VALUE=DATE:20260502
DTSTAMP:20260421T035025
CREATED:20260402T101544Z
LAST-MODIFIED:20260404T102045Z
UID:12156-1777593600-1777679999@ppsavanicbse.org
SUMMARY:Last Working Day (Nursery to Std. 5)
DESCRIPTION:DATE \n\nDAY\nEVENT’S NAME\nSTD\nPLACE/ VENUE\n\n\n01/05/2026\nFRIDAY\nLAST WORKING DAY\nNURSERY TO STD. V\n\n–
URL:https://ppsavanicbse.org/event/last-working-day-std-3-to-5-2/
LOCATION:Classroom\, Mota Varachha-Abrama Road\, Abrama\, Kamrej\, Surat.\, Surat\, Gujarat\, 394150\, India
CATEGORIES:Academic
ORGANIZER;CN="CBSE Department":MAILTO:info@ppsavanicbse.org
END:VEVENT
END:VCALENDAR