BEGIN:VCALENDAR
VERSION:2.0
PRODID:-//PP SAVANI CBSE - ECPv6.2.9//NONSGML v1.0//EN
CALSCALE:GREGORIAN
METHOD:PUBLISH
X-WR-CALNAME:PP SAVANI CBSE
X-ORIGINAL-URL:https://ppsavanicbse.org
X-WR-CALDESC:Events for PP SAVANI CBSE
REFRESH-INTERVAL;VALUE=DURATION:PT1H
X-Robots-Tag:noindex
X-PUBLISHED-TTL:PT1H
BEGIN:VTIMEZONE
TZID:Asia/Kolkata
BEGIN:STANDARD
TZOFFSETFROM:+0530
TZOFFSETTO:+0530
TZNAME:IST
DTSTART:20240101T000000
END:STANDARD
END:VTIMEZONE
BEGIN:VEVENT
DTSTART;VALUE=DATE:20260214
DTEND;VALUE=DATE:20260215
DTSTAMP:20260420T022346
CREATED:20260130T042840Z
LAST-MODIFIED:20260130T042840Z
UID:11943-1771027200-1771113599@ppsavanicbse.org
SUMMARY:Special Assembly (Std. 3 to 5)
DESCRIPTION:DATE \n\nDAY\nEVENT’S NAME\nSTD\nPLACE/ VENUE\n\n\n14-02-2026\nSATURDAY\nSPL. ASSEMBLY – GET READY FOR EXAMINATION\nIII TO V\n\nBIG AUDITORIUM
URL:https://ppsavanicbse.org/event/special-assembly-std-3-to-5/
LOCATION:Big Auditorium\, Mota Varachha-Abrama Road\, Abrama\, Kamrej\, Surat.\, Surat\, Gujarat\, 394150\, India
CATEGORIES:Assembly
ORGANIZER;CN="CBSE Department":MAILTO:info@ppsavanicbse.org
END:VEVENT
BEGIN:VEVENT
DTSTART;VALUE=DATE:20251114
DTEND;VALUE=DATE:20251115
DTSTAMP:20260420T022346
CREATED:20250929T101933Z
LAST-MODIFIED:20250929T101933Z
UID:11484-1763078400-1763164799@ppsavanicbse.org
SUMMARY:Assembly - Respect (Std. 3 to 5)
DESCRIPTION:DATE \n\nDAY\nEVENT’S NAME\nSTD\nPLACE/ VENUE\n\n\n14-11-2025\nFRIDAY\nASSEMBLY-RESPECT\nIII TO V\n\nBIG AUDI
URL:https://ppsavanicbse.org/event/assembly-respect-std-3-to-5/
LOCATION:Big Auditorium\, Mota Varachha-Abrama Road\, Abrama\, Kamrej\, Surat.\, Surat\, Gujarat\, 394150\, India
CATEGORIES:Assembly
ORGANIZER;CN="CBSE Department":MAILTO:info@ppsavanicbse.org
END:VEVENT
BEGIN:VEVENT
DTSTART;VALUE=DATE:20251004
DTEND;VALUE=DATE:20251005
DTSTAMP:20260420T022346
CREATED:20250929T100930Z
LAST-MODIFIED:20250929T100930Z
UID:11472-1759536000-1759622399@ppsavanicbse.org
SUMMARY:Assembly - Awareness of Crackers (Std. 3 to 5)
DESCRIPTION:DATE \n\nDAY\nEVENT’S NAME\nSTD\nPLACE/ VENUE\n\n\n04-10-2025\nSATURDAY\nASSEMBLY- AWARNESS OF CRACKERS\nIII TO V\n\nBIG AUDI.
URL:https://ppsavanicbse.org/event/assembly-awareness-of-crackers-std-3-to-5/
LOCATION:Big Auditorium\, Mota Varachha-Abrama Road\, Abrama\, Kamrej\, Surat.\, Surat\, Gujarat\, 394150\, India
CATEGORIES:Assembly
ORGANIZER;CN="CBSE Department":MAILTO:info@ppsavanicbse.org
END:VEVENT
BEGIN:VEVENT
DTSTART;VALUE=DATE:20250710
DTEND;VALUE=DATE:20250711
DTSTAMP:20260420T022346
CREATED:20250710T055620Z
LAST-MODIFIED:20250710T055620Z
UID:11042-1752105600-1752191999@ppsavanicbse.org
SUMMARY:Guru Purnima Celebratoin And Special Assembly (Std. 6 to 8)
DESCRIPTION:DATE \n\nDAY\nEVENT’S NAME\nSTD\nPLACE/ VENUE\n\n\n10-07-2025\nTHURSDAY\nGURU PURNIMA CELEBRATION AND SPECIAL ASSEMBLY\nSTD. 6 TO 8\n\nBIG AUDI
URL:https://ppsavanicbse.org/event/guru-purnima-celebratoin-and-special-assembly-std-6-to-8/
LOCATION:Big Auditorium\, Mota Varachha-Abrama Road\, Abrama\, Kamrej\, Surat.\, Surat\, Gujarat\, 394150\, India
CATEGORIES:Assembly,Celebration
ORGANIZER;CN="CBSE Department":MAILTO:info@ppsavanicbse.org
END:VEVENT
BEGIN:VEVENT
DTSTART;VALUE=DATE:20250705
DTEND;VALUE=DATE:20250706
DTSTAMP:20260420T022346
CREATED:20250625T111141Z
LAST-MODIFIED:20250625T111141Z
UID:10964-1751673600-1751759999@ppsavanicbse.org
SUMMARY:Assembly - Happy Family (Std. 3 to 5)
DESCRIPTION:DATE \n\nDAY\nEVENT’S NAME\nSTD\nPLACE/ VENUE\n\n\n05-07-2025\nSATURDAY\nASSEMBLY – HAPPY FAMILY\nSTD. 3 TO 5\n\nBIG AUDI.
URL:https://ppsavanicbse.org/event/assembly-happy-family-std-3-to-5/
LOCATION:Big Auditorium\, Mota Varachha-Abrama Road\, Abrama\, Kamrej\, Surat.\, Surat\, Gujarat\, 394150\, India
CATEGORIES:Assembly
ORGANIZER;CN="CBSE Department":MAILTO:info@ppsavanicbse.org
END:VEVENT
BEGIN:VEVENT
DTSTART;VALUE=DATE:20250620
DTEND;VALUE=DATE:20250621
DTSTAMP:20260420T022346
CREATED:20250511T093020Z
LAST-MODIFIED:20250511T093050Z
UID:10786-1750377600-1750463999@ppsavanicbse.org
SUMMARY:International Yoga Day Assembly (Std. 1 & 2)
DESCRIPTION:DATE \n\nDAY\nEVENT’S NAME\nSTD\nPLACE/ VENUE\n\n\n20-06-2025\nFRIDAY\nINTERNATIONAL\nYOGA DAY ASSEMBLY\nSTD. 1 & 2\n\nBIG AUDITORIUM \n\n\n\n\n 
URL:https://ppsavanicbse.org/event/10786/
LOCATION:Big Auditorium\, Mota Varachha-Abrama Road\, Abrama\, Kamrej\, Surat.\, Surat\, Gujarat\, 394150\, India
CATEGORIES:Assembly
ORGANIZER;CN="CBSE Department":MAILTO:info@ppsavanicbse.org
END:VEVENT
BEGIN:VEVENT
DTSTART;VALUE=DATE:20250614
DTEND;VALUE=DATE:20250615
DTSTAMP:20260420T022346
CREATED:20250511T094205Z
LAST-MODIFIED:20250511T094205Z
UID:10797-1749859200-1749945599@ppsavanicbse.org
SUMMARY:Assembly - Summer Solstice (Std. 3 to 5)
DESCRIPTION:DATE \n\nDAY\nEVENT’S NAME\nSTD\nPLACE/ VENUE\n\n\n14-06-2025\nSATURDAY\nASSEMBLY- SUMMER SOLSTICE\n3 TO 5\n\nBIG AUDI
URL:https://ppsavanicbse.org/event/assembly-summer-solstice-std-3-to-5/
LOCATION:Big Auditorium\, Mota Varachha-Abrama Road\, Abrama\, Kamrej\, Surat.\, Surat\, Gujarat\, 394150\, India
CATEGORIES:Assembly
ORGANIZER;CN="CBSE Department":MAILTO:info@ppsavanicbse.org
END:VEVENT
BEGIN:VEVENT
DTSTART;VALUE=DATE:20250412
DTEND;VALUE=DATE:20250413
DTSTAMP:20260420T022346
CREATED:20250421T061211Z
LAST-MODIFIED:20250421T061211Z
UID:10750-1744416000-1744502399@ppsavanicbse.org
SUMMARY:ASSEMBLY NEW YEARLY/ DR.AMBEDKAR JAYANTI (STD. 3 TO 5)
DESCRIPTION:DATE \n\nDAY\nEVENT’S NAME\nSTD\nPLACE/ VENUE\n\n\n12-04-2025\nSATURDAY\nASSEMBLY NEW YEARLY/ DR.AMBEDKAR JAYANTI\nIII TO V\n\nBIG AUDI
URL:https://ppsavanicbse.org/event/assembly-new-yearly-dr-ambedkar-jayanti-std-3-to-5/
LOCATION:Big Auditorium\, Mota Varachha-Abrama Road\, Abrama\, Kamrej\, Surat.\, Surat\, Gujarat\, 394150\, India
CATEGORIES:Assembly
ORGANIZER;CN="CBSE Department":MAILTO:info@ppsavanicbse.org
END:VEVENT
BEGIN:VEVENT
DTSTART;VALUE=DATE:20250225
DTEND;VALUE=DATE:20250226
DTSTAMP:20260420T022346
CREATED:20250126T082254Z
LAST-MODIFIED:20250126T082254Z
UID:10553-1740441600-1740527999@ppsavanicbse.org
SUMMARY:Assembly - Maha Shivratri (Nursery to Std. 2)
DESCRIPTION:DATE \n\nDAY\nEVENT’S NAME\nSTD\nPLACE/ VENUE\n\n\n25-02-2025\nTUESDAY\nASSEMBLY – MAHA SHIVRATRI\nNURSERY TO STD. 2\n\nPRE-PRIMARY AUDITOURIM
URL:https://ppsavanicbse.org/event/assembly-maha-shivratri-nursery-to-std-2/
LOCATION:Pre-Primary Auditourim\, Mota Varachha-Abrama Road\, Abrama\, Kamrej\, Surat.\, Surat\, Gujarat\, 394150\, India
CATEGORIES:Assembly
ORGANIZER;CN="CBSE Department":MAILTO:info@ppsavanicbse.org
END:VEVENT
BEGIN:VEVENT
DTSTART;VALUE=DATE:20250213
DTEND;VALUE=DATE:20250214
DTSTAMP:20260420T022346
CREATED:20250126T081720Z
LAST-MODIFIED:20250126T081720Z
UID:10547-1739404800-1739491199@ppsavanicbse.org
SUMMARY:Assembly - Abilities & Achievement (Nursery To Std. 2)
DESCRIPTION:DATE \n\nDAY\nEVENT’S NAME\nSTD\nPLACE/ VENUE\n\n\n13-02-2025\nTHURSDAY\nASSEMBLY – ABILITIES & ACHIEVEMENT\nNURSERY TO STD. 2\n\nSMALL AUDITOURIM
URL:https://ppsavanicbse.org/event/assembly-abilities-achievement-nursery-to-std-2/
LOCATION:Small Auditorium\, Mota Varachha-Abrama Road\, Abrama\, Kamrej\, Surat.\, Surat\, Gujarat\, 394150\, India
CATEGORIES:Assembly
ORGANIZER;CN="CBSE Department":MAILTO:info@ppsavanicbse.org
END:VEVENT
BEGIN:VEVENT
DTSTART;VALUE=DATE:20241121
DTEND;VALUE=DATE:20241122
DTSTAMP:20260420T022346
CREATED:20241028T091900Z
LAST-MODIFIED:20241028T091900Z
UID:10206-1732147200-1732233599@ppsavanicbse.org
SUMMARY:General Assembly On Children - Future of Nation (Nursery to Std. 2)
DESCRIPTION:DATE \n\nDAY\nEVENT’S NAME\nSTD\nPLACE/ VENUE\n\n\n21-11-2024\nTHURSDAY\nGENERAL ASSEMBLY ON CHILDRE – FUTURE OF NATIONA\nNUSERY TO STD. 2\n\nPRE-PRIMARY AUDITORIUM
URL:https://ppsavanicbse.org/event/general-assembly-on-children-future-of-nation-nursery-to-std-2/
LOCATION:Auditorium\, Mota Varachha-Abrama Road\, Abrama\, Kamrej\, Surat.\, Surat\, Gujarat\, 394150\, India
CATEGORIES:Assembly
ORGANIZER;CN="CBSE Department":MAILTO:info@ppsavanicbse.org
END:VEVENT
BEGIN:VEVENT
DTSTART;VALUE=DATE:20241001
DTEND;VALUE=DATE:20241002
DTSTAMP:20260420T022346
CREATED:20240926T105622Z
LAST-MODIFIED:20240926T105622Z
UID:9992-1727740800-1727827199@ppsavanicbse.org
SUMMARY:Special Assembly On Gandhi Jayanti (Nursery to Std. 2)
DESCRIPTION:DATE \n\nDAY\nEVENT’S NAME\nSTD\nPLACE/ VENUE\n\n\n01-10-24\nTUESDAY\nSPECIAL ASSEMBLY ON GANDHI JAYANTI\nNURSERY TO STD. 2\n\nPRE-PRIMARY AUDITOURIUM
URL:https://ppsavanicbse.org/event/special-assembly-on-gandhi-jayanti-nursery-to-std-2/
LOCATION:Auditorium\, Mota Varachha-Abrama Road\, Abrama\, Kamrej\, Surat.\, Surat\, Gujarat\, 394150\, India
CATEGORIES:Assembly
ORGANIZER;CN="CBSE Department":MAILTO:info@ppsavanicbse.org
END:VEVENT
END:VCALENDAR