BEGIN:VCALENDAR
VERSION:2.0
PRODID:-//PP SAVANI CBSE - ECPv6.2.9//NONSGML v1.0//EN
CALSCALE:GREGORIAN
METHOD:PUBLISH
X-WR-CALNAME:PP SAVANI CBSE
X-ORIGINAL-URL:https://ppsavanicbse.org
X-WR-CALDESC:Events for PP SAVANI CBSE
REFRESH-INTERVAL;VALUE=DURATION:PT1H
X-Robots-Tag:noindex
X-PUBLISHED-TTL:PT1H
BEGIN:VTIMEZONE
TZID:Asia/Kolkata
BEGIN:STANDARD
TZOFFSETFROM:+0530
TZOFFSETTO:+0530
TZNAME:IST
DTSTART:20240101T000000
END:STANDARD
END:VTIMEZONE
BEGIN:VEVENT
DTSTART;VALUE=DATE:20241125
DTEND;VALUE=DATE:20241126
DTSTAMP:20260422T183105
CREATED:20241028T075426Z
LAST-MODIFIED:20241028T081733Z
UID:10172-1732492800-1732579199@ppsavanicbse.org
SUMMARY:Weekly Test-3 (Std. 6 to 9 & 11)
DESCRIPTION:DATE \n\nDAY\nEVENT’S NAME\nSTD\n\nPLACE/ VENUE \n\n\n\n25-11-2024\nMONDAY\nWEEKLY TEST-3\n9 & 11\n\nCLASSROOM
URL:https://ppsavanicbse.org/event/weekly-test-3-std-9-11-6/
LOCATION:Classroom\, Mota Varachha-Abrama Road\, Abrama\, Kamrej\, Surat.\, Surat\, Gujarat\, 394150\, India
CATEGORIES:Exam
ORGANIZER;CN="CBSE Department":MAILTO:info@ppsavanicbse.org
END:VEVENT
BEGIN:VEVENT
DTSTART;VALUE=DATE:20241125
DTEND;VALUE=DATE:20241126
DTSTAMP:20260422T183105
CREATED:20241028T075527Z
LAST-MODIFIED:20241028T075527Z
UID:10174-1732492800-1732579199@ppsavanicbse.org
SUMMARY:Pre Board Exam-1 (Std. 10 & 12)
DESCRIPTION:DATE \n\nDAY\nEVENT’S NAME\nSTD\nPLACE/ VENUE\n\n\n25-11-2024\nMONDAY\nPRE BOARD EXAM-1\n10 & 12\n\nCLASSROOM
URL:https://ppsavanicbse.org/event/pre-board-exam-1-std-10-12-6/
LOCATION:Classroom\, Mota Varachha-Abrama Road\, Abrama\, Kamrej\, Surat.\, Surat\, Gujarat\, 394150\, India
CATEGORIES:Exam
ORGANIZER;CN="CBSE Department":MAILTO:info@ppsavanicbse.org
END:VEVENT
BEGIN:VEVENT
DTSTART;VALUE=DATE:20241125
DTEND;VALUE=DATE:20241130
DTSTAMP:20260422T183105
CREATED:20241028T081141Z
LAST-MODIFIED:20241028T092221Z
UID:10186-1732492800-1732924799@ppsavanicbse.org
SUMMARY:Skill Based Evaluation 2 Begins (Std. 1 to 5)
DESCRIPTION:DATE \n\nDAY\nEVENT’S NAME\nSTD\n\nPLACE/ VENUE \n\n\n\n25-11-2024\nMONDAY\nSKILL BASED EVALUATION 2 BEGINS\n1 TO 5\n\nCLASSROOM
URL:https://ppsavanicbse.org/event/skill-based-evaluation-2-begins/
LOCATION:Classroom\, Mota Varachha-Abrama Road\, Abrama\, Kamrej\, Surat.\, Surat\, Gujarat\, 394150\, India
CATEGORIES:Exam
ORGANIZER;CN="CBSE Department":MAILTO:info@ppsavanicbse.org
END:VEVENT
BEGIN:VEVENT
DTSTART;VALUE=DATE:20241127
DTEND;VALUE=DATE:20241128
DTSTAMP:20260422T183105
CREATED:20241123T091812Z
LAST-MODIFIED:20241123T092220Z
UID:10279-1732665600-1732751999@ppsavanicbse.org
SUMMARY:Pre Board Exam-1 (Std. 10 & 12)
DESCRIPTION:DATE \n\nDAY\nEVENT’S NAME\nSTD\nPLACE/ VENUE\n\n\n27-11-2024\nWEDNESDAY\nPRE BOARD EXAM\n10 & 12\n\nCLASSROOM
URL:https://ppsavanicbse.org/event/pre-board-exam-std-10-12-2/
LOCATION:Classroom\, Mota Varachha-Abrama Road\, Abrama\, Kamrej\, Surat.\, Surat\, Gujarat\, 394150\, India
CATEGORIES:Exam
ORGANIZER;CN="CBSE Department":MAILTO:info@ppsavanicbse.org
END:VEVENT
BEGIN:VEVENT
DTSTART;VALUE=DATE:20241129
DTEND;VALUE=DATE:20241130
DTSTAMP:20260422T183105
CREATED:20241028T075840Z
LAST-MODIFIED:20241028T075840Z
UID:10180-1732838400-1732924799@ppsavanicbse.org
SUMMARY:Pre Board Exam-1 (Std. 10 & 12)
DESCRIPTION:DATE \n\nDAY\nEVENT’S NAME\nSTD\nPLACE/ VENUE\n\n\n29-11-2024\nFRIDAY\nPRE BOARD EXAM-1\n10 & 12\n\nCLASSROOM
URL:https://ppsavanicbse.org/event/pre-board-exam-1-std-10-12-8/
LOCATION:Classroom\, Mota Varachha-Abrama Road\, Abrama\, Kamrej\, Surat.\, Surat\, Gujarat\, 394150\, India
CATEGORIES:Exam
ORGANIZER;CN="CBSE Department":MAILTO:info@ppsavanicbse.org
END:VEVENT
END:VCALENDAR