BEGIN:VCALENDAR
VERSION:2.0
PRODID:-//PP SAVANI CBSE - ECPv6.2.9//NONSGML v1.0//EN
CALSCALE:GREGORIAN
METHOD:PUBLISH
X-WR-CALNAME:PP SAVANI CBSE
X-ORIGINAL-URL:https://ppsavanicbse.org
X-WR-CALDESC:Events for PP SAVANI CBSE
REFRESH-INTERVAL;VALUE=DURATION:PT1H
X-Robots-Tag:noindex
X-PUBLISHED-TTL:PT1H
BEGIN:VTIMEZONE
TZID:Asia/Kolkata
BEGIN:STANDARD
TZOFFSETFROM:+0530
TZOFFSETTO:+0530
TZNAME:IST
DTSTART:20250101T000000
END:STANDARD
END:VTIMEZONE
BEGIN:VEVENT
DTSTART;VALUE=DATE:20250102
DTEND;VALUE=DATE:20250103
DTSTAMP:20260422T152051
CREATED:20241221T111016Z
LAST-MODIFIED:20241221T111016Z
UID:10380-1735776000-1735862399@ppsavanicbse.org
SUMMARY:Weekly Test-3 (PTM) (Std. 6 to 8)
DESCRIPTION:DATE \n\nDAY\nEVENT’S NAME\nSTD\nPLACE/ VENUE\n\n\n02-01-2025\nTHURSDAY\nWEEKLY TEST-3 (PTM)\n6 to 8\n\nCLASSROOM
URL:https://ppsavanicbse.org/event/weekly-test-3-ptm-std-6-to-8/
LOCATION:Classroom\, Mota Varachha-Abrama Road\, Abrama\, Kamrej\, Surat.\, Surat\, Gujarat\, 394150\, India
CATEGORIES:Exam,PTM
ORGANIZER;CN="CBSE Department":MAILTO:info@ppsavanicbse.org
END:VEVENT
BEGIN:VEVENT
DTSTART;VALUE=DATE:20250102
DTEND;VALUE=DATE:20250103
DTSTAMP:20260422T152051
CREATED:20250101T085107Z
LAST-MODIFIED:20250101T085107Z
UID:10403-1735776000-1735862399@ppsavanicbse.org
SUMMARY:Pre-Board-3 (Std. 10 & 12)
DESCRIPTION:DATE \n\nDAY\nEVENT’S NAME\nSTD\nPLACE/ VENUE\n\n\n02-01-2025\nTHURSDAY\nPRE-BOARD-3\n10 & 12\n\nCLASSROOM
URL:https://ppsavanicbse.org/event/pre-board-3-std-10-12-2/
LOCATION:Classroom\, Mota Varachha-Abrama Road\, Abrama\, Kamrej\, Surat.\, Surat\, Gujarat\, 394150\, India
CATEGORIES:Exam
ORGANIZER;CN="CBSE Department":MAILTO:info@ppsavanicbse.org
END:VEVENT
BEGIN:VEVENT
DTSTART;VALUE=DATE:20250103
DTEND;VALUE=DATE:20250104
DTSTAMP:20260422T152051
CREATED:20241221T111159Z
LAST-MODIFIED:20241221T111159Z
UID:10382-1735862400-1735948799@ppsavanicbse.org
SUMMARY:Weekly Test-3 - Pre-Board-2 (Std. 9 to 12)
DESCRIPTION:DATE \n\nDAY\nEVENT’S NAME\nSTD\nPLACE/ VENUE\n\n\n03-01-2025\nFRIDAY\nWEEKLY TEST-3 – PRE-BOARD-2 (STD. 9 TO 12)\n9 TO 12\n\nCLASSROOM
URL:https://ppsavanicbse.org/event/weekly-test-3-pre-board-2-std-9-to-12/
LOCATION:Classroom\, Mota Varachha-Abrama Road\, Abrama\, Kamrej\, Surat.\, Surat\, Gujarat\, 394150\, India
CATEGORIES:Exam
ORGANIZER;CN="CBSE Department":MAILTO:info@ppsavanicbse.org
END:VEVENT
BEGIN:VEVENT
DTSTART;VALUE=DATE:20250104
DTEND;VALUE=DATE:20250105
DTSTAMP:20260422T152051
CREATED:20250101T091353Z
LAST-MODIFIED:20250101T091353Z
UID:10405-1735948800-1736035199@ppsavanicbse.org
SUMMARY:Pre-Board-3 (Std. 10 & 12)
DESCRIPTION:DATE \n\nDAY\nEVENT’S NAME\nSTD\nPLACE/ VENUE\n\n\n04-01-2025\nSATURDAY\nPRE-BOARD-3\n10 & 12\n\nCLASSROOM
URL:https://ppsavanicbse.org/event/pre-board-3-std-10-12-3/
LOCATION:Classroom\, Mota Varachha-Abrama Road\, Abrama\, Kamrej\, Surat.\, Surat\, Gujarat\, 394150\, India
CATEGORIES:Exam
ORGANIZER;CN="CBSE Department":MAILTO:info@ppsavanicbse.org
END:VEVENT
BEGIN:VEVENT
DTSTART;VALUE=DATE:20250106
DTEND;VALUE=DATE:20250107
DTSTAMP:20260422T152051
CREATED:20250101T091503Z
LAST-MODIFIED:20250101T091521Z
UID:10408-1736121600-1736207999@ppsavanicbse.org
SUMMARY:Pre-Board-3 (Std. 10 & 12)
DESCRIPTION:DATE \n\nDAY\nEVENT’S NAME\nSTD\nPLACE/ VENUE\n\n\n06-01-2025\nMONDAY\nPRE-BOARD-3\n10 & 12\n\nCLASSROOM
URL:https://ppsavanicbse.org/event/pre-board-3-std-10-12-4/
LOCATION:Classroom\, Mota Varachha-Abrama Road\, Abrama\, Kamrej\, Surat.\, Surat\, Gujarat\, 394150\, India
CATEGORIES:Exam
ORGANIZER;CN="CBSE Department":MAILTO:info@ppsavanicbse.org
END:VEVENT
BEGIN:VEVENT
DTSTART;VALUE=DATE:20250106
DTEND;VALUE=DATE:20250107
DTSTAMP:20260422T152051
CREATED:20250101T093847Z
LAST-MODIFIED:20250101T093847Z
UID:10420-1736121600-1736207999@ppsavanicbse.org
SUMMARY:Weekly Test (Std. 9 & 11)
DESCRIPTION:DATE \n\nDAY\nEVENT’S NAME\nSTD\nPLACE/ VENUE\n\n\n06-01-2025\nMONDAY\nWEEKLY TEST\n9 & 11\n\nCLASSROOM
URL:https://ppsavanicbse.org/event/weekly-test-std-9-11/
LOCATION:Classroom\, Mota Varachha-Abrama Road\, Abrama\, Kamrej\, Surat.\, Surat\, Gujarat\, 394150\, India
CATEGORIES:Exam
ORGANIZER;CN="CBSE Department":MAILTO:info@ppsavanicbse.org
END:VEVENT
BEGIN:VEVENT
DTSTART;VALUE=DATE:20250108
DTEND;VALUE=DATE:20250109
DTSTAMP:20260422T152051
CREATED:20250101T091627Z
LAST-MODIFIED:20250101T091627Z
UID:10410-1736294400-1736380799@ppsavanicbse.org
SUMMARY:Pre-Board-3 (Std. 10 & 12)
DESCRIPTION:DATE \n\nDAY\nEVENT’S NAME\nSTD\nPLACE/ VENUE\n\n\n08-01-2025\nWEDNESDAY\nPRE-BOARD-3\n10 & 12\n\nCLASSROOM
URL:https://ppsavanicbse.org/event/pre-board-3-std-10-12-5/
LOCATION:Classroom\, Mota Varachha-Abrama Road\, Abrama\, Kamrej\, Surat.\, Surat\, Gujarat\, 394150\, India
CATEGORIES:Exam
ORGANIZER;CN="CBSE Department":MAILTO:info@ppsavanicbse.org
END:VEVENT
BEGIN:VEVENT
DTSTART;VALUE=DATE:20250110
DTEND;VALUE=DATE:20250111
DTSTAMP:20260422T152051
CREATED:20250101T091740Z
LAST-MODIFIED:20250101T091740Z
UID:10412-1736467200-1736553599@ppsavanicbse.org
SUMMARY:Pre-Board-3 (Std. 10 & 12)
DESCRIPTION:DATE \n\nDAY\nEVENT’S NAME\nSTD\nPLACE/ VENUE\n\n\n10-01-2025\nFRIDAY\nPRE-BOARD-3\n10 & 12\n\nCLASSROOM
URL:https://ppsavanicbse.org/event/pre-board-3-std-10-12-6/
LOCATION:Classroom\, Mota Varachha-Abrama Road\, Abrama\, Kamrej\, Surat.\, Surat\, Gujarat\, 394150\, India
CATEGORIES:Exam
ORGANIZER;CN="CBSE Department":MAILTO:info@ppsavanicbse.org
END:VEVENT
BEGIN:VEVENT
DTSTART;VALUE=DATE:20250117
DTEND;VALUE=DATE:20250118
DTSTAMP:20260422T152051
CREATED:20241221T111311Z
LAST-MODIFIED:20241221T111331Z
UID:10384-1737072000-1737158399@ppsavanicbse.org
SUMMARY:Pre-Board-3 (Std. 10 & 12)
DESCRIPTION:DATE \n\nDAY\nEVENT’S NAME\nSTD\nPLACE/ VENUE\n\n\n17-01-2025\nFRIDAY\nPRE-BOARD-3\n10 & 12\n\nCLASSROOM
URL:https://ppsavanicbse.org/event/pre-board-3-std-10-12/
LOCATION:Classroom\, Mota Varachha-Abrama Road\, Abrama\, Kamrej\, Surat.\, Surat\, Gujarat\, 394150\, India
CATEGORIES:Exam
ORGANIZER;CN="CBSE Department":MAILTO:info@ppsavanicbse.org
END:VEVENT
BEGIN:VEVENT
DTSTART;VALUE=DATE:20250120
DTEND;VALUE=DATE:20250121
DTSTAMP:20260422T152051
CREATED:20250101T094005Z
LAST-MODIFIED:20250101T094024Z
UID:10422-1737331200-1737417599@ppsavanicbse.org
SUMMARY:Weekly Test (Std. 9 & 11)
DESCRIPTION:DATE \n\nDAY\nEVENT’S NAME\nSTD\nPLACE/ VENUE\n\n\n20-01-2025\nMONDAY\nWEEKLY TEST\n9 & 11\n\nCLASSROOM
URL:https://ppsavanicbse.org/event/weekly-test-std-9-11-2/
LOCATION:Classroom\, Mota Varachha-Abrama Road\, Abrama\, Kamrej\, Surat.\, Surat\, Gujarat\, 394150\, India
CATEGORIES:Exam
ORGANIZER;CN="CBSE Department":MAILTO:info@ppsavanicbse.org
END:VEVENT
BEGIN:VEVENT
DTSTART;VALUE=DATE:20250124
DTEND;VALUE=DATE:20250125
DTSTAMP:20260422T152051
CREATED:20250108T084153Z
LAST-MODIFIED:20250108T084153Z
UID:10466-1737676800-1737763199@ppsavanicbse.org
SUMMARY:Pre Board-3 & PTM (Std. 10)
DESCRIPTION:DATE \n\nDAY\nEVENT’S NAME\nSTD\nPLACE/ VENUE\n\n\n24-01-2025\nFRIDAY\nPRE BOARD & PTM\n10\n\nCLASSROOM
URL:https://ppsavanicbse.org/event/pre-board-3-ptm-std-10/
LOCATION:Classroom\, Mota Varachha-Abrama Road\, Abrama\, Kamrej\, Surat.\, Surat\, Gujarat\, 394150\, India
CATEGORIES:Exam,PTM
ORGANIZER;CN="CBSE Department":MAILTO:info@ppsavanicbse.org
END:VEVENT
BEGIN:VEVENT
DTSTART;VALUE=DATE:20250127
DTEND;VALUE=DATE:20250128
DTSTAMP:20260422T152051
CREATED:20250101T094115Z
LAST-MODIFIED:20250101T094115Z
UID:10424-1737936000-1738022399@ppsavanicbse.org
SUMMARY:Weekly Test (Std. 9 & 11)
DESCRIPTION:DATE \n\nDAY\nEVENT’S NAME\nSTD\nPLACE/ VENUE\n\n\n27-01-2025\nMONDAY\nWEEKLY TEST\n9 & 11\n\nCLASSROOM
URL:https://ppsavanicbse.org/event/weekly-test-std-9-11-3/
LOCATION:Classroom\, Mota Varachha-Abrama Road\, Abrama\, Kamrej\, Surat.\, Surat\, Gujarat\, 394150\, India
CATEGORIES:Exam
ORGANIZER;CN="CBSE Department":MAILTO:info@ppsavanicbse.org
END:VEVENT
END:VCALENDAR