BEGIN:VCALENDAR
VERSION:2.0
PRODID:-//PP SAVANI CBSE - ECPv6.2.9//NONSGML v1.0//EN
CALSCALE:GREGORIAN
METHOD:PUBLISH
X-WR-CALNAME:PP SAVANI CBSE
X-ORIGINAL-URL:https://ppsavanicbse.org
X-WR-CALDESC:Events for PP SAVANI CBSE
REFRESH-INTERVAL;VALUE=DURATION:PT1H
X-Robots-Tag:noindex
X-PUBLISHED-TTL:PT1H
BEGIN:VTIMEZONE
TZID:Asia/Kolkata
BEGIN:STANDARD
TZOFFSETFROM:+0530
TZOFFSETTO:+0530
TZNAME:IST
DTSTART:20260101T000000
END:STANDARD
END:VTIMEZONE
BEGIN:VEVENT
DTSTART;VALUE=DATE:20260102
DTEND;VALUE=DATE:20260103
DTSTAMP:20260421T201542
CREATED:20251223T073420Z
LAST-MODIFIED:20251223T073420Z
UID:11764-1767312000-1767398399@ppsavanicbse.org
SUMMARY:Pre-Board Exam-2 (Std. 10 & 12)
DESCRIPTION:DATE \n\nDAY\nEVENT NAME\nCLASS\nPLACE/ VENUE\n\n\n02-01-2026\nFRIDAY\nPRE-BOARD EXAM – 2\nX & XII\n\nCLASSROOM
URL:https://ppsavanicbse.org/event/pre-board-exam-2-std-10-12-16/
LOCATION:Classroom\, Mota Varachha-Abrama Road\, Abrama\, Kamrej\, Surat.\, Surat\, Gujarat\, 394150\, India
CATEGORIES:Exam
ORGANIZER;CN="CBSE Department":MAILTO:info@ppsavanicbse.org
END:VEVENT
BEGIN:VEVENT
DTSTART;VALUE=DATE:20260105
DTEND;VALUE=DATE:20260106
DTSTAMP:20260421T201542
CREATED:20251216T071856Z
LAST-MODIFIED:20251216T071856Z
UID:11665-1767571200-1767657599@ppsavanicbse.org
SUMMARY:PA-2 Report Card (Std. 3 to 5)
DESCRIPTION:DATE \n\nDAY\nEVENT’S NAME\nSTD\nPLACE/ VENUE\n\n\n05-01-2026\nMONDAY\nPA-2 REPORT CARD\nIII TO V\n\nCLASSROOM
URL:https://ppsavanicbse.org/event/pa-2-report-card-std-3-to-5/
LOCATION:Classroom\, Mota Varachha-Abrama Road\, Abrama\, Kamrej\, Surat.\, Surat\, Gujarat\, 394150\, India
CATEGORIES:Exam,PTM
ORGANIZER;CN="CBSE Department":MAILTO:info@ppsavanicbse.org
END:VEVENT
BEGIN:VEVENT
DTSTART;VALUE=DATE:20260105
DTEND;VALUE=DATE:20260111
DTSTAMP:20260421T201542
CREATED:20251223T071932Z
LAST-MODIFIED:20251223T073603Z
UID:11751-1767571200-1768089599@ppsavanicbse.org
SUMMARY:Periodic Assessment-4 (Std. 6 to 8\, 9 & 11)
DESCRIPTION:DATE \n\nDAY\nEVENT NAME\nCLASS\nPLACE/ VENUE\n\n\n05-01-2026 TO 10-01-2026\nMONDAY TO SATURDAY\nPERIODIC ASSESSMENT-4\nVI TO VIII\, IX & XI\n\nCLASSROOM
URL:https://ppsavanicbse.org/event/periodic-assessment-4-std-6-to-8/
LOCATION:Classroom\, Mota Varachha-Abrama Road\, Abrama\, Kamrej\, Surat.\, Surat\, Gujarat\, 394150\, India
CATEGORIES:Exam
ORGANIZER;CN="CBSE Department":MAILTO:info@ppsavanicbse.org
END:VEVENT
BEGIN:VEVENT
DTSTART;VALUE=DATE:20260119
DTEND;VALUE=DATE:20260120
DTSTAMP:20260421T201542
CREATED:20251223T073845Z
LAST-MODIFIED:20251223T073845Z
UID:11771-1768780800-1768867199@ppsavanicbse.org
SUMMARY:Pre-Board Exam-3 (Std. 10 & 12)
DESCRIPTION:DATE \n\nDAY\nEVENT NAME\nCLASS\nPLACE/ VENUE\n\n\n19-01-2026\nMONDAY\nPRE-BOARD EXAM – 3\nX & XII\n\nCLASSROOM
URL:https://ppsavanicbse.org/event/pre-board-exam-3-std-10-12-5/
LOCATION:Classroom\, Mota Varachha-Abrama Road\, Abrama\, Kamrej\, Surat.\, Surat\, Gujarat\, 394150\, India
CATEGORIES:Exam
ORGANIZER;CN="CBSE Department":MAILTO:info@ppsavanicbse.org
END:VEVENT
BEGIN:VEVENT
DTSTART;VALUE=DATE:20260123
DTEND;VALUE=DATE:20260124
DTSTAMP:20260421T201542
CREATED:20251223T090231Z
LAST-MODIFIED:20251223T090231Z
UID:11776-1769126400-1769212799@ppsavanicbse.org
SUMMARY:Pre-Board Exam-3 (10 & 12)
DESCRIPTION:DATE \n\nDAY\nEVENT NAME\nCLASS\nPLACE/ VENUE\n\n\n23-01-2026\nFRIDAY\nPRE-BOARD EXAM – 3\nX & XII\n\nCLASSROOM
URL:https://ppsavanicbse.org/event/pre-board-exam-3-10-12/
LOCATION:Classroom\, Mota Varachha-Abrama Road\, Abrama\, Kamrej\, Surat.\, Surat\, Gujarat\, 394150\, India
CATEGORIES:Exam
ORGANIZER;CN="CBSE Department":MAILTO:info@ppsavanicbse.org
END:VEVENT
END:VCALENDAR