BEGIN:VCALENDAR
VERSION:2.0
PRODID:-//PP SAVANI CBSE - ECPv6.2.9//NONSGML v1.0//EN
CALSCALE:GREGORIAN
METHOD:PUBLISH
X-ORIGINAL-URL:https://ppsavanicbse.org
X-WR-CALDESC:Events for PP SAVANI CBSE
REFRESH-INTERVAL;VALUE=DURATION:PT1H
X-Robots-Tag:noindex
X-PUBLISHED-TTL:PT1H
BEGIN:VTIMEZONE
TZID:Asia/Kolkata
BEGIN:STANDARD
TZOFFSETFROM:+0530
TZOFFSETTO:+0530
TZNAME:IST
DTSTART:20240101T000000
END:STANDARD
END:VTIMEZONE
BEGIN:VEVENT
DTSTART;TZID=Asia/Kolkata:20240226T093000
DTEND;TZID=Asia/Kolkata:20240226T110000
DTSTAMP:20260423T113331
CREATED:20240126T094509Z
LAST-MODIFIED:20240126T094509Z
UID:8829-1708939800-1708945200@ppsavanicbse.org
SUMMARY:CCE-3 EXAM (Std. 3 to 5)
DESCRIPTION:CCE-3 EXAM (Std. 3 to 5) \nDate & Day : 26/02/2024\, Monday \nStd. : 3 to 5 \nVenue : Classroom \nTiming: 09:30 AM to 11:00 AM
URL:https://ppsavanicbse.org/event/cce-3-exam-std-3-to-5/
LOCATION:Classroom\, Mota Varachha-Abrama Road\, Abrama\, Kamrej\, Surat.\, Surat\, Gujarat\, 394150\, India
CATEGORIES:Exam
ORGANIZER;CN="CBSE Department":MAILTO:info@ppsavanicbse.org
END:VEVENT
END:VCALENDAR