BEGIN:VCALENDAR
VERSION:2.0
PRODID:-//PP SAVANI CBSE - ECPv6.2.9//NONSGML v1.0//EN
CALSCALE:GREGORIAN
METHOD:PUBLISH
X-ORIGINAL-URL:https://ppsavanicbse.org
X-WR-CALDESC:Events for PP SAVANI CBSE
REFRESH-INTERVAL;VALUE=DURATION:PT1H
X-Robots-Tag:noindex
X-PUBLISHED-TTL:PT1H
BEGIN:VTIMEZONE
TZID:Asia/Kolkata
BEGIN:STANDARD
TZOFFSETFROM:+0530
TZOFFSETTO:+0530
TZNAME:IST
DTSTART:20240101T000000
END:STANDARD
END:VTIMEZONE
BEGIN:VEVENT
DTSTART;TZID=Asia/Kolkata:20241223T080000
DTEND;TZID=Asia/Kolkata:20241231T170000
DTSTAMP:20260422T165656
CREATED:20241130T064839Z
LAST-MODIFIED:20241130T064839Z
UID:10344-1734940800-1735664400@ppsavanicbse.org
SUMMARY:Periodic Assessment-2 (Std. 3 to 5)
DESCRIPTION:DATE \n\nDAY\nEVENT’S NAME\nSTD\nPLACE/ VENUE\n\n\n23-12-2024\nMONDAY\nPERIODIC ASSESSMENT-2 BEGINS\n3 TO 5\n\nCLASSROOM \n\n\n\n\n  \n\n\n\n\nDATE \n\nDAY\nEVENT’S NAME\nSTD\nPLACE/ VENUE\n\n\n31-12-2024\nTUESDAY\nPERIODIC ASSESSMENT-2 ENDS\n3 TO 5\n\nCLASSROOM
URL:https://ppsavanicbse.org/event/periodic-assessment-2-std-3-to-5/
LOCATION:Classroom\, Mota Varachha-Abrama Road\, Abrama\, Kamrej\, Surat.\, Surat\, Gujarat\, 394150\, India
CATEGORIES:Exam
ORGANIZER;CN="CBSE Department":MAILTO:info@ppsavanicbse.org
END:VEVENT
END:VCALENDAR