BEGIN:VCALENDAR
VERSION:2.0
PRODID:-//PP SAVANI CBSE - ECPv6.2.9//NONSGML v1.0//EN
CALSCALE:GREGORIAN
METHOD:PUBLISH
X-ORIGINAL-URL:https://ppsavanicbse.org
X-WR-CALDESC:Events for PP SAVANI CBSE
REFRESH-INTERVAL;VALUE=DURATION:PT1H
X-Robots-Tag:noindex
X-PUBLISHED-TTL:PT1H
BEGIN:VTIMEZONE
TZID:Asia/Kolkata
BEGIN:STANDARD
TZOFFSETFROM:+0530
TZOFFSETTO:+0530
TZNAME:IST
DTSTART:20250101T000000
END:STANDARD
END:VTIMEZONE
BEGIN:VEVENT
DTSTART;VALUE=DATE:20250801
DTEND;VALUE=DATE:20250803
DTSTAMP:20260422T060336
CREATED:20250723T051330Z
LAST-MODIFIED:20250723T053542Z
UID:11070-1754006400-1754179199@ppsavanicbse.org
SUMMARY:Periodic Assessment-2 (Std. 6 to 12)
DESCRIPTION:DATE \n\nDAY\nEVENT’S NAME\nSTD\nPLACE/ VENUE\n\n\n01-08-2025 & 02-08-2025\nFRIDAY & SATURDAY\nPERIODIC ASSESSMENT-2\nVI TO XII\n\nCLASSROOM
URL:https://ppsavanicbse.org/event/periodic-assessment-2-std-6-to-8/
LOCATION:Classroom\, Mota Varachha-Abrama Road\, Abrama\, Kamrej\, Surat.\, Surat\, Gujarat\, 394150\, India
CATEGORIES:Exam
ORGANIZER;CN="CBSE Department":MAILTO:info@ppsavanicbse.org
END:VEVENT
END:VCALENDAR