BEGIN:VCALENDAR
VERSION:2.0
PRODID:-//PP SAVANI CBSE - ECPv6.2.9//NONSGML v1.0//EN
CALSCALE:GREGORIAN
METHOD:PUBLISH
X-WR-CALNAME:PP SAVANI CBSE
X-ORIGINAL-URL:https://ppsavanicbse.org
X-WR-CALDESC:Events for PP SAVANI CBSE
REFRESH-INTERVAL;VALUE=DURATION:PT1H
X-Robots-Tag:noindex
X-PUBLISHED-TTL:PT1H
BEGIN:VTIMEZONE
TZID:Asia/Kolkata
BEGIN:STANDARD
TZOFFSETFROM:+0530
TZOFFSETTO:+0530
TZNAME:IST
DTSTART:20260101T000000
END:STANDARD
END:VTIMEZONE
BEGIN:VEVENT
DTSTART;VALUE=DATE:20260303
DTEND;VALUE=DATE:20260317
DTSTAMP:20260423T161232
CREATED:20260224T105651Z
LAST-MODIFIED:20260225T071427Z
UID:12046-1772496000-1773705599@ppsavanicbse.org
SUMMARY:Annual Exam (Std. 6 to 12)
DESCRIPTION:DATE \n\nDAY\nEVENT NAME\nCLASS\nPLACE/ VENUE\n\n\n03-03-2026 \nTO 16-03-2026\nTUESDAY TO MONDAY\nANNUAL EXAM\nVI TO XII\n\nCLASSROOM
URL:https://ppsavanicbse.org/event/annual-exam-std-6-to-8-3/
LOCATION:Classroom\, Mota Varachha-Abrama Road\, Abrama\, Kamrej\, Surat.\, Surat\, Gujarat\, 394150\, India
CATEGORIES:Exam
ORGANIZER;CN="CBSE Department":MAILTO:info@ppsavanicbse.org
END:VEVENT
BEGIN:VEVENT
DTSTART;VALUE=DATE:20260306
DTEND;VALUE=DATE:20260314
DTSTAMP:20260423T161232
CREATED:20260130T071727Z
LAST-MODIFIED:20260130T071803Z
UID:11966-1772755200-1773446399@ppsavanicbse.org
SUMMARY:Term-2 (Std. 1 & 2)
DESCRIPTION:DATE \n\nDAY\nEVENT’S NAME\nSTD\nPLACE/ VENUE\n\n\n06-03-2026 TO 14-03-2026\nFRIDAY TO SATURDAY\nTERM 2\nI TO II\n\nCLASSROOM
URL:https://ppsavanicbse.org/event/term-2-std-1-2/
LOCATION:Classroom\, Mota Varachha-Abrama Road\, Abrama\, Kamrej\, Surat.\, Surat\, Gujarat\, 394150\, India
CATEGORIES:Exam
ORGANIZER;CN="CBSE Department":MAILTO:info@ppsavanicbse.org
END:VEVENT
BEGIN:VEVENT
DTSTART;VALUE=DATE:20260310
DTEND;VALUE=DATE:20260314
DTSTAMP:20260423T161232
CREATED:20260130T071914Z
LAST-MODIFIED:20260130T071914Z
UID:11969-1773100800-1773446399@ppsavanicbse.org
SUMMARY:Term-2 (Jr. Kg. & Sr. Kg.)
DESCRIPTION:DATE \n\nDAY\nEVENT’S NAME\nSTD\nPLACE/ VENUE\n\n\n10-03-2026 to 13-03-2026\nTUESDAY TO FRIDAY\nTERM 2\nJR. KG & SR. KG.\n\nCLASSROOM
URL:https://ppsavanicbse.org/event/term-2-jr-kg-sr-kg/
LOCATION:Classroom\, Mota Varachha-Abrama Road\, Abrama\, Kamrej\, Surat.\, Surat\, Gujarat\, 394150\, India
CATEGORIES:Exam
ORGANIZER;CN="CBSE Department":MAILTO:info@ppsavanicbse.org
END:VEVENT
BEGIN:VEVENT
DTSTART;VALUE=DATE:20260515
DTEND;VALUE=DATE:20260522
DTSTAMP:20260423T161232
CREATED:20260423T091533Z
LAST-MODIFIED:20260423T091911Z
UID:12281-1778803200-1779407999@ppsavanicbse.org
SUMMARY:Compartment Examination for Class 10 Date Sheet (Tentative)
DESCRIPTION:DATE \n\nDAY\nEVENT’S NAME\nSTD\nPLACE/ VENUE\n\n\n15/05/2026 TO 21/05/2026\nFRIDAY TO THURSDAY\nCOMPARTMENT EXAMINATION FOR CLASS 10 DATE SHEET (TENTATIVE)\nX\n\nCLASSROOM
URL:https://ppsavanicbse.org/event/compartment-examination-for-class-10-date-sheet-tentative/
LOCATION:Classroom\, Mota Varachha-Abrama Road\, Abrama\, Kamrej\, Surat.\, Surat\, Gujarat\, 394150\, India
CATEGORIES:Exam
ORGANIZER;CN="CBSE Department":MAILTO:info@ppsavanicbse.org
END:VEVENT
BEGIN:VEVENT
DTSTART;VALUE=DATE:20260622
DTEND;VALUE=DATE:20260627
DTSTAMP:20260423T161232
CREATED:20260423T101438Z
LAST-MODIFIED:20260423T101550Z
UID:12300-1782086400-1782518399@ppsavanicbse.org
SUMMARY:Periodic Assessment-1 Examination (Std. 6 to 8)
DESCRIPTION:DATE \n\nDAY\nEVENT’S NAME\nSTD\nPLACE/ VENUE\n\n\n22-06-2026 \nTO \n26-06-2026\nMONDAY TO FRIDAY\nPERIODIC ASSESSMENT-1 EXAMINATION\nVI TO VIII\n\nCLASSROOM
URL:https://ppsavanicbse.org/event/periodic-assessment-1-examination-std-6-to-8/
LOCATION:Classroom\, Mota Varachha-Abrama Road\, Abrama\, Kamrej\, Surat.\, Surat\, Gujarat\, 394150\, India
CATEGORIES:Exam
ORGANIZER;CN="CBSE Department":MAILTO:info@ppsavanicbse.org
END:VEVENT
BEGIN:VEVENT
DTSTART;VALUE=DATE:20260629
DTEND;VALUE=DATE:20260630
DTSTAMP:20260423T161232
CREATED:20260423T101825Z
LAST-MODIFIED:20260423T101825Z
UID:12304-1782691200-1782777599@ppsavanicbse.org
SUMMARY:Periodic Assessment-1 Examination (Std. 6 to 8)
DESCRIPTION:DATE \n\nDAY\nEVENT’S NAME\nSTD\nPLACE/ VENUE\n\n\n29-06-2026\nMONDAY\nPERIODIC ASSESSMENT-1 EXAMINATION\nVI TO VIII\n\nCLASSROOM
URL:https://ppsavanicbse.org/event/periodic-assessment-1-examination-std-6-to-8-2/
LOCATION:Classroom\, Mota Varachha-Abrama Road\, Abrama\, Kamrej\, Surat.\, Surat\, Gujarat\, 394150\, India
CATEGORIES:Exam
ORGANIZER;CN="CBSE Department":MAILTO:info@ppsavanicbse.org
END:VEVENT
END:VCALENDAR