BEGIN:VCALENDAR
VERSION:2.0
PRODID:-//PP SAVANI CBSE - ECPv6.2.9//NONSGML v1.0//EN
CALSCALE:GREGORIAN
METHOD:PUBLISH
X-ORIGINAL-URL:https://ppsavanicbse.org
X-WR-CALDESC:Events for PP SAVANI CBSE
REFRESH-INTERVAL;VALUE=DURATION:PT1H
X-Robots-Tag:noindex
X-PUBLISHED-TTL:PT1H
BEGIN:VTIMEZONE
TZID:Asia/Kolkata
BEGIN:STANDARD
TZOFFSETFROM:+0530
TZOFFSETTO:+0530
TZNAME:IST
DTSTART:20260101T000000
END:STANDARD
END:VTIMEZONE
BEGIN:VEVENT
DTSTART;VALUE=DATE:20260124
DTEND;VALUE=DATE:20260125
DTSTAMP:20260421T032635
CREATED:20251220T092500Z
LAST-MODIFIED:20251220T092500Z
UID:11727-1769212800-1769299199@ppsavanicbse.org
SUMMARY:Picnic - Fun Funta Fun (Nursery to Sr. Kg.)
DESCRIPTION:DATE \n\nDAY\nEVENT’S NAME\nSTD\nPLACE/ VENUE\n\n\n24-01-2026\nSATURDAY\nPICNIC\nNURSERY TO SR. KG.\n\nFUN FUNTA FUN
URL:https://ppsavanicbse.org/event/picnic-fun-funta-fun-nursery-to-sr-kg/
LOCATION:Field Trip\, India
CATEGORIES:Picnic
ORGANIZER;CN="CBSE Department":MAILTO:info@ppsavanicbse.org
END:VEVENT
END:VCALENDAR